
BEGIN:VCALENDAR
VERSION:2.0
PRODID:-//Telmekom Team - ECPv4.6.19//NONSGML v1.0//EN
CALSCALE:GREGORIAN
METHOD:PUBLISH
X-WR-CALNAME:Telmekom Team
X-ORIGINAL-URL:https://www.telmekomteam.com
X-WR-CALDESC:Veranstaltungen für Telmekom Team
BEGIN:VEVENT
DTSTART;TZID=UTC+0:20210502T093000
DTEND;TZID=UTC+0:20210502T093000
DTSTAMP:20260424T032006
CREATED:20210417T122200Z
LAST-MODIFIED:20210417T122200Z
UID:4736-1619947800-1619947800@www.telmekomteam.com
SUMMARY:27. Meran Halbmarathon
DESCRIPTION:Half Marathon (21km) – Fitness Run (12\,5km) \nStart: Meran – Stadtzentrum um 09:30 Uhr \nHalf Marathon: \n\nEinzahlung bis zum 28.02.2021 € 32\,00\nab 01.03.2021 € 35\,00\nab 18.04.2021 bis 29.04.2021  € 40\,00\nNachmeldung am 01.05.2021  € 45\,00\n\nFitness Run: \n\nEinzahlung bis zum 28.02.2021 € 22\,00\nab 01.03.2021 € 25\,00\nab 18.04.2021 bis 29.04.2021  € 28\,00\nNachmeldung am 01.05.2021 € 35\,00\n\nOnline Anmeldeschluss: 29.04.2021 \nAm Wettkampftag Sonntag\, den 02.05.2021 werden keine Anmeldungen angenommen. \n
URL:https://www.telmekomteam.com/event/27-meran-halbmarathon/
LOCATION:Freiheitsstraße 120\, Meran\, Bolzano\, 39012\, Italien
CATEGORIES:Halbmarathon
ORGANIZER;CN="Sportclub%20Meran%20Leichtathletik":MAILTO:leichtathletik@sportclub-meran.it
END:VEVENT
END:VCALENDAR